BEGIN:VCALENDAR
VERSION:2.0
PRODID:-//54.36.91.62//NONSGML kigkonsult.se iCalcreator 2.20//
CALSCALE:GREGORIAN
METHOD:PUBLISH
X-WR-TIMEZONE:Europe/Paris
BEGIN:VEVENT
UID:event72@Apprentissage Corps Mémoire
DTSTAMP:20260420T160828Z
CATEGORIES:Conférences Ateliers
DESCRIPTION:Notre posture\, langage de notre inconscient\nCatégorie: Confér
 ences Ateliers\nLien: https://corps-memoire.com/index.php?option=com_jem&v
 iew=event&id=72:notre-posture-langage-de-notre-inconscient\n
DTSTART;TZID=Europe/Paris:20251120T200000
DTEND;TZID=Europe/Paris:20251120T220000
LOCATION:PARIS 15e\,Paris 15e
SUMMARY:Notre posture\, langage de notre inconscient
URL:https://corps-memoire.com/index.php?option=com_jem&view=event&id=72:not
 re-posture-langage-de-notre-inconscient
END:VEVENT
END:VCALENDAR
