BEGIN:VCALENDAR
VERSION:2.0
PRODID:-//54.36.91.62//NONSGML kigkonsult.se iCalcreator 2.20//
CALSCALE:GREGORIAN
METHOD:PUBLISH
X-WR-TIMEZONE:Europe/Paris
BEGIN:VEVENT
UID:event69@Apprentissage Corps Mémoire
DTSTAMP:20260420T180639Z
CATEGORIES:Conférences Ateliers
DESCRIPTION:Soirée vibration & Bols chantants\nCatégorie: Conférences Ateli
 ers\nLien: https://corps-memoire.com/index.php?option=com_jem&view=event&i
 d=69:soiree-vibration-bols-chantants\n
DTSTART;TZID=Europe/Paris:20251007T203000
DTEND;TZID=Europe/Paris:20251007T220000
LOCATION:Marly le Roi\,Marly le roi
SUMMARY:Soirée vibration & Bols chantants
URL:https://corps-memoire.com/index.php?option=com_jem&view=event&id=69:soi
 ree-vibration-bols-chantants
END:VEVENT
END:VCALENDAR
