BEGIN:VCALENDAR
VERSION:2.0
PRODID:-//54.36.91.62//NONSGML kigkonsult.se iCalcreator 2.20//
CALSCALE:GREGORIAN
METHOD:PUBLISH
X-WR-TIMEZONE:Europe/Paris
BEGIN:VEVENT
UID:event68@Apprentissage Corps Mémoire
DTSTAMP:20260420T161734Z
CATEGORIES:Conférences Ateliers
DESCRIPTION:Matinée Bols Chantants\nCatégorie: Conférences Ateliers\nLien: 
 https://corps-memoire.com/index.php?option=com_jem&view=event&id=68:matine
 e-bols-chantants\n
DTSTART;TZID=Europe/Paris:20250705T100000
DTEND;TZID=Europe/Paris:20250705T120000
LOCATION:Marly le Roi\,Marly le roi
SUMMARY:Matinée Bols Chantants
URL:https://corps-memoire.com/index.php?option=com_jem&view=event&id=68:mat
 inee-bols-chantants
END:VEVENT
END:VCALENDAR
