BEGIN:VCALENDAR
VERSION:2.0
PRODID:-//54.36.91.62//NONSGML kigkonsult.se iCalcreator 2.20//
CALSCALE:GREGORIAN
METHOD:PUBLISH
X-WR-TIMEZONE:Europe/Paris
BEGIN:VEVENT
UID:event67@Apprentissage Corps Mémoire
DTSTAMP:20260420T161233Z
CATEGORIES:Conférences Ateliers
DESCRIPTION:Conférence Atelier la Santé par le Toucher\nCatégorie: Conféren
 ces Ateliers\nLien: https://corps-memoire.com/index.php?option=com_jem&vie
 w=event&id=67:conference-atelier-le-tfh\n
DTSTART;TZID=Europe/Paris:20250703T200000
DTEND;TZID=Europe/Paris:20250703T220000
LOCATION:Vincennes\,94 Vincennes
SUMMARY:Conférence Atelier la Santé par le Toucher
URL:https://corps-memoire.com/index.php?option=com_jem&view=event&id=67:con
 ference-atelier-le-tfh
END:VEVENT
END:VCALENDAR
