BEGIN:VCALENDAR
VERSION:2.0
PRODID:-//54.36.91.62//NONSGML kigkonsult.se iCalcreator 2.20//
CALSCALE:GREGORIAN
METHOD:PUBLISH
X-WR-TIMEZONE:Europe/Paris
BEGIN:VEVENT
UID:event61@Apprentissage Corps Mémoire
DTSTAMP:20260420T221306Z
CATEGORIES:Conférences Ateliers
DESCRIPTION:La Méthode Apprentissage Pleine Forme\nCatégorie: Conférences A
 teliers\nLien: https://corps-memoire.com/index.php?option=com_jem&view=eve
 nt&id=61:la-sante-par-le-toucher\n
DTSTART;TZID=Europe/Paris:20241210T200000
DTEND;TZID=Europe/Paris:20241210T220000
LOCATION:Marly le Roi\,Marly le roi
SUMMARY:La Méthode Apprentissage Pleine Forme
URL:https://corps-memoire.com/index.php?option=com_jem&view=event&id=61:la-
 sante-par-le-toucher
END:VEVENT
END:VCALENDAR
