BEGIN:VCALENDAR
VERSION:2.0
PRODID:-//54.36.91.62//NONSGML kigkonsult.se iCalcreator 2.20//
CALSCALE:GREGORIAN
METHOD:PUBLISH
X-WR-TIMEZONE:Europe/Paris
BEGIN:VEVENT
UID:event60@Apprentissage Corps Mémoire
DTSTAMP:20260420T180942Z
CATEGORIES:Conférences Ateliers
DESCRIPTION:La Santé par le Toucher\nCatégorie: Conférences Ateliers\nLien:
  https://corps-memoire.com/index.php?option=com_jem&view=event&id=60:la-sa
 nte-par-le-toucher\n
DTSTART;TZID=Europe/Paris:20241204T200000
DTEND;TZID=Europe/Paris:20241204T220000
LOCATION:80 rue Duhesme\,80\, rue Duhesme\,75018 Paris
SUMMARY:La Santé par le Toucher
URL:https://corps-memoire.com/index.php?option=com_jem&view=event&id=60:la-
 sante-par-le-toucher
END:VEVENT
END:VCALENDAR
