BEGIN:VCALENDAR
VERSION:2.0
PRODID:-//54.36.91.62//NONSGML kigkonsult.se iCalcreator 2.20//
CALSCALE:GREGORIAN
METHOD:PUBLISH
X-WR-TIMEZONE:Europe/Paris
BEGIN:VEVENT
UID:event6@Apprentissage Corps Mémoire
DTSTAMP:20260420T143503Z
CATEGORIES:Conférences Ateliers
DESCRIPTION:Le Stress est-il un appel au changement ?\nCatégorie: Conférenc
 es Ateliers\nLien: https://corps-memoire.com/index.php?option=com_jem&view
 =event&id=6:le-stress-est-il-un-appel-au-changement\n
DTSTART;VALUE=DATE:20190321
DTEND;VALUE=DATE:20190322
LOCATION:Les miroirs de l'âme\,39-41 rue Labat\,75018 PARIS
SUMMARY:Le Stress est-il un appel au changement ?
URL:https://corps-memoire.com/index.php?option=com_jem&view=event&id=6:le-s
 tress-est-il-un-appel-au-changement
END:VEVENT
END:VCALENDAR
