BEGIN:VCALENDAR
VERSION:2.0
PRODID:-//54.36.91.62//NONSGML kigkonsult.se iCalcreator 2.20//
CALSCALE:GREGORIAN
METHOD:PUBLISH
X-WR-TIMEZONE:Europe/Paris
BEGIN:VEVENT
UID:event59@Apprentissage Corps Mémoire
DTSTAMP:20260424T003020Z
CATEGORIES:Conférences Ateliers
DESCRIPTION:Corps Mémoire\, une école du savoir être et être en relation\nC
 atégorie: Conférences Ateliers\nLien: https://corps-memoire.com/index.php?
 option=com_jem&view=event&id=59:conference-atelier\n
DTSTART;TZID=Europe/Paris:20251002T200000
DTEND;TZID=Europe/Paris:20251002T220000
LOCATION:PARIS 15e\,Paris 15e
SUMMARY:Corps Mémoire\, une école du savoir être et être en relation
URL:https://corps-memoire.com/index.php?option=com_jem&view=event&id=59:con
 ference-atelier
END:VEVENT
END:VCALENDAR
