BEGIN:VCALENDAR
VERSION:2.0
PRODID:-//54.36.91.62//NONSGML kigkonsult.se iCalcreator 2.20//
CALSCALE:GREGORIAN
METHOD:PUBLISH
X-WR-TIMEZONE:Europe/Paris
BEGIN:VEVENT
UID:event55@Apprentissage Corps Mémoire
DTSTAMP:20260420T180910Z
CATEGORIES:Conférences Ateliers
DESCRIPTION:Conférence Les Réflexes Archaïques\nCatégorie: Conférences Atel
 iers\nLien: https://corps-memoire.com/index.php?option=com_jem&view=event&
 id=55:conference-atelier\n
DTSTART;TZID=Europe/Paris:20250325T200000
DTEND;TZID=Europe/Paris:20250325T220000
LOCATION:80 rue Duhesme\,80\, rue Duhesme\,75018 Paris
SUMMARY:Conférence Les Réflexes Archaïques
URL:https://corps-memoire.com/index.php?option=com_jem&view=event&id=55:con
 ference-atelier
END:VEVENT
END:VCALENDAR
