BEGIN:VCALENDAR
VERSION:2.0
PRODID:-//54.36.91.62//NONSGML kigkonsult.se iCalcreator 2.20//
CALSCALE:GREGORIAN
METHOD:PUBLISH
X-WR-TIMEZONE:Europe/Paris
BEGIN:VEVENT
UID:event49@Apprentissage Corps Mémoire
DTSTAMP:20260420T181044Z
CATEGORIES:Conférences Ateliers
DESCRIPTION:'Méthode Apprentissage Pleine Forme'\nCatégorie: Conférences At
 eliers\nLien: https://corps-memoire.com/index.php?option=com_jem&view=even
 t&id=49:la-methode-qui-donne-la-parole-au-mouvement\n
DTSTART;TZID=Europe/Paris:20240208T200000
DTEND;TZID=Europe/Paris:20240208T213000
LOCATION:80 rue Duhesme\,80\, rue Duhesme\,75018 Paris
SUMMARY:'Méthode Apprentissage Pleine Forme'
URL:https://corps-memoire.com/index.php?option=com_jem&view=event&id=49:la-
 methode-qui-donne-la-parole-au-mouvement
END:VEVENT
END:VCALENDAR
