BEGIN:VCALENDAR
VERSION:2.0
PRODID:-//54.36.91.62//NONSGML kigkonsult.se iCalcreator 2.20//
CALSCALE:GREGORIAN
METHOD:PUBLISH
X-WR-TIMEZONE:Europe/Paris
BEGIN:VEVENT
UID:event46@Apprentissage Corps Mémoire
DTSTAMP:20260420T180207Z
CATEGORIES:Conférences Ateliers
DESCRIPTION:La Méthode 'Apprentissage Pleine Forme' qui donne la parole au 
 mouvement\nCatégorie: Conférences Ateliers\nLien: https://corps-memoire.co
 m/index.php?option=com_jem&view=event&id=46:la-methode-apprentissage-plein
 e-forme-qui-donne-la-parole-au-mouvement\n
DTSTART;TZID=Europe/Paris:20230308T200000
DTEND;TZID=Europe/Paris:20230308T220000
LOCATION:80 rue Duhesme\,80\, rue Duhesme\,75018 Paris
SUMMARY:La Méthode 'Apprentissage Pleine Forme' qui donne la parole au mouv
 ement
URL:https://corps-memoire.com/index.php?option=com_jem&view=event&id=46:la-
 methode-apprentissage-pleine-forme-qui-donne-la-parole-au-mouvement
END:VEVENT
END:VCALENDAR
