BEGIN:VCALENDAR
VERSION:2.0
PRODID:-//54.36.91.62//NONSGML kigkonsult.se iCalcreator 2.20//
CALSCALE:GREGORIAN
METHOD:PUBLISH
X-WR-TIMEZONE:Europe/Paris
BEGIN:VEVENT
UID:event39@Apprentissage Corps Mémoire
DTSTAMP:20260420T143058Z
CATEGORIES:Conférences Ateliers
DESCRIPTION:CORPS MÉMOIRE UNE APPROCHE MULTIDIMENSIONNELLE\nCatégorie: Conf
 érences Ateliers\nLien: https://corps-memoire.com/index.php?option=com_jem
 &view=event&id=39:corps-memoire-une-approche-multidimensionnelle\n
DTSTART;TZID=Europe/Paris:20221108T200000
DTEND;TZID=Europe/Paris:20221108T220000
LOCATION:RUE DUHESME\,80 RUE DUHESME\,75018 PARIS
SUMMARY:CORPS MÉMOIRE UNE APPROCHE MULTIDIMENSIONNELLE
URL:https://corps-memoire.com/index.php?option=com_jem&view=event&id=39:cor
 ps-memoire-une-approche-multidimensionnelle
END:VEVENT
END:VCALENDAR
