BEGIN:VCALENDAR
VERSION:2.0
PRODID:-//54.36.91.62//NONSGML kigkonsult.se iCalcreator 2.20//
CALSCALE:GREGORIAN
METHOD:PUBLISH
X-WR-TIMEZONE:Europe/Paris
BEGIN:VEVENT
UID:event37@Apprentissage Corps Mémoire
DTSTAMP:20260420T142038Z
CATEGORIES:La Santé par le Toucher 1
DESCRIPTION:Santé par le Toucher 1\nCatégorie: La Santé par le Toucher 1\nL
 ien: https://corps-memoire.com/index.php?option=com_jem&view=event&id=37:s
 ante-par-le-toucher-1\n
DTSTART;TZID=Europe/Paris:20220319T083000
DTEND;TZID=Europe/Paris:20220320T180000
LOCATION:Les miroirs de l'âme\,39-41 rue Labat\,75018 PARIS
SUMMARY:Santé par le Toucher 1
URL:https://corps-memoire.com/index.php?option=com_jem&view=event&id=37:san
 te-par-le-toucher-1
END:VEVENT
END:VCALENDAR
