BEGIN:VCALENDAR
VERSION:2.0
PRODID:-//54.36.91.62//NONSGML kigkonsult.se iCalcreator 2.20//
CALSCALE:GREGORIAN
METHOD:PUBLISH
X-WR-TIMEZONE:Europe/Paris
BEGIN:VEVENT
UID:event20@Apprentissage Corps Mémoire
DTSTAMP:20260420T142857Z
CATEGORIES:Conférences Ateliers
DESCRIPTION:SANTÉ PAR LE TOUCHER\, UN ÉQUILIBRAGE ÉNERGÉTIQUE PUISSANT\nCat
 égorie: Conférences Ateliers\nLien: https://corps-memoire.com/index.php?op
 tion=com_jem&view=event&id=20:sante-par-le-toucher-un-equilibrage-energeti
 que-puissant\n
DTSTART;TZID=Europe/Paris:20200528T200000
DTEND;TZID=Europe/Paris:20200528T220000
LOCATION:Les miroirs de l'âme\,39-41 rue Labat\,75018 PARIS
SUMMARY:SANTÉ PAR LE TOUCHER\, UN ÉQUILIBRAGE ÉNERGÉTIQUE PUISSANT
URL:https://corps-memoire.com/index.php?option=com_jem&view=event&id=20:san
 te-par-le-toucher-un-equilibrage-energetique-puissant
END:VEVENT
END:VCALENDAR
